BEGIN:VCALENDAR
VERSION:2.0
PRODID:-//Knights of Columbus - ECPv6.6.4.2//NONSGML v1.0//EN
CALSCALE:GREGORIAN
METHOD:PUBLISH
X-ORIGINAL-URL:https://www.kofcbloomington.com
X-WR-CALDESC:Events for Knights of Columbus
REFRESH-INTERVAL;VALUE=DURATION:PT1H
X-Robots-Tag:noindex
X-PUBLISHED-TTL:PT1H
BEGIN:VTIMEZONE
TZID:America/Chicago
BEGIN:DAYLIGHT
TZOFFSETFROM:-0600
TZOFFSETTO:-0500
TZNAME:CDT
DTSTART:20190310T080000
END:DAYLIGHT
BEGIN:STANDARD
TZOFFSETFROM:-0500
TZOFFSETTO:-0600
TZNAME:CST
DTSTART:20191103T070000
END:STANDARD
BEGIN:DAYLIGHT
TZOFFSETFROM:-0600
TZOFFSETTO:-0500
TZNAME:CDT
DTSTART:20200308T080000
END:DAYLIGHT
BEGIN:STANDARD
TZOFFSETFROM:-0500
TZOFFSETTO:-0600
TZNAME:CST
DTSTART:20201101T070000
END:STANDARD
END:VTIMEZONE
BEGIN:VEVENT
DTSTART;TZID=America/Chicago:20200227T190000
DTEND;TZID=America/Chicago:20200227T203000
DTSTAMP:20260420T040634
CREATED:20200130T164020Z
LAST-MODIFIED:20200130T164020Z
UID:6509-1582830000-1582835400@www.kofcbloomington.com
SUMMARY:Council Meeting
DESCRIPTION:
URL:https://www.kofcbloomington.com/event/council-meeting-13/
CATEGORIES:Member Events
END:VEVENT
BEGIN:VEVENT
DTSTART;TZID=America/Chicago:20200225T190000
DTEND;TZID=America/Chicago:20200225T200000
DTSTAMP:20260420T040634
CREATED:20200130T164011Z
LAST-MODIFIED:20200130T164011Z
UID:6508-1582657200-1582660800@www.kofcbloomington.com
SUMMARY:Home Association Meeting
DESCRIPTION:
URL:https://www.kofcbloomington.com/event/home-association-meeting-9/
CATEGORIES:Public Events
END:VEVENT
BEGIN:VEVENT
DTSTART;TZID=America/Chicago:20200224T190000
DTEND;TZID=America/Chicago:20200224T200000
DTSTAMP:20260420T040634
CREATED:20200130T163953Z
LAST-MODIFIED:20200130T163953Z
UID:6506-1582570800-1582574400@www.kofcbloomington.com
SUMMARY:Marketing Committee Meeting
DESCRIPTION:
URL:https://www.kofcbloomington.com/event/marketing-committee-meeting-9/
CATEGORIES:Member Events
END:VEVENT
BEGIN:VEVENT
DTSTART;TZID=America/Chicago:20200224T150000
DTEND;TZID=America/Chicago:20200224T170000
DTSTAMP:20260420T040634
CREATED:20200130T164004Z
LAST-MODIFIED:20200130T164004Z
UID:6507-1582556400-1582563600@www.kofcbloomington.com
SUMMARY:Loaves & Fishes-Hope Church
DESCRIPTION:
URL:https://www.kofcbloomington.com/event/loaves-fishes-hope-church-9/
CATEGORIES:Public Events
END:VEVENT
BEGIN:VEVENT
DTSTART;TZID=America/Chicago:20200220T173000
DTEND;TZID=America/Chicago:20200220T190000
DTSTAMP:20260420T040634
CREATED:20200130T163935Z
LAST-MODIFIED:20200130T163935Z
UID:6505-1582219800-1582225200@www.kofcbloomington.com
SUMMARY:Ladies Auxillary Dinner Meeting
DESCRIPTION:
URL:https://www.kofcbloomington.com/event/ladies-auxillary-dinner-meeting-5/
CATEGORIES:Member Events
END:VEVENT
BEGIN:VEVENT
DTSTART;TZID=America/Chicago:20200219T193000
DTEND;TZID=America/Chicago:20200219T203000
DTSTAMP:20260420T040634
CREATED:20200130T163915Z
LAST-MODIFIED:20200130T163915Z
UID:6504-1582140600-1582144200@www.kofcbloomington.com
SUMMARY:Fourth Degree Meeting
DESCRIPTION:
URL:https://www.kofcbloomington.com/event/fourth-degree-meeting-7/
CATEGORIES:Member Events
END:VEVENT
BEGIN:VEVENT
DTSTART;TZID=America/Chicago:20200219T123000
DTEND;TZID=America/Chicago:20200219T133000
DTSTAMP:20260420T040634
CREATED:20200130T163853Z
LAST-MODIFIED:20200130T163853Z
UID:6503-1582115400-1582119000@www.kofcbloomington.com
SUMMARY:Gambling Committee Meeting
DESCRIPTION:
URL:https://www.kofcbloomington.com/event/gambling-committee-meeting-10/
CATEGORIES:Member Events
END:VEVENT
BEGIN:VEVENT
DTSTART;TZID=America/Chicago:20200214T200000
DTEND;TZID=America/Chicago:20200214T230000
DTSTAMP:20260420T040634
CREATED:20200130T163810Z
LAST-MODIFIED:20200130T163810Z
UID:6502-1581710400-1581721200@www.kofcbloomington.com
SUMMARY:Big Band Dance
DESCRIPTION:
URL:https://www.kofcbloomington.com/event/big-band-dance-10/
CATEGORIES:Public Events
END:VEVENT
BEGIN:VEVENT
DTSTART;TZID=America/Chicago:20200214T163000
DTEND;TZID=America/Chicago:20200214T203000
DTSTAMP:20260420T040634
CREATED:20200130T163840Z
LAST-MODIFIED:20200130T163840Z
UID:6511-1581697800-1581712200@www.kofcbloomington.com
SUMMARY:Valentine's Dinner
DESCRIPTION:
URL:https://www.kofcbloomington.com/event/valentines-dinner/
CATEGORIES:Public Events
END:VEVENT
BEGIN:VEVENT
DTSTART;TZID=America/Chicago:20200213T190000
DTEND;TZID=America/Chicago:20200213T203000
DTSTAMP:20260420T040634
CREATED:20200130T163754Z
LAST-MODIFIED:20200130T163754Z
UID:6501-1581620400-1581625800@www.kofcbloomington.com
SUMMARY:Council Meeting
DESCRIPTION:
URL:https://www.kofcbloomington.com/event/council-meeting-12/
CATEGORIES:Member Events
END:VEVENT
BEGIN:VEVENT
DTSTART;TZID=America/Chicago:20200213T170000
DTEND;TZID=America/Chicago:20200213T190000
DTSTAMP:20260420T040634
CREATED:20200130T163734Z
LAST-MODIFIED:20200130T163734Z
UID:6500-1581613200-1581620400@www.kofcbloomington.com
SUMMARY:Brotherhood Dinner
DESCRIPTION:
URL:https://www.kofcbloomington.com/event/brotherhood-dinner-9/
CATEGORIES:Member Events
END:VEVENT
BEGIN:VEVENT
DTSTART;TZID=America/Chicago:20200211T190000
DTEND;TZID=America/Chicago:20200211T203000
DTSTAMP:20260420T040634
CREATED:20200130T163719Z
LAST-MODIFIED:20200130T163719Z
UID:6499-1581447600-1581453000@www.kofcbloomington.com
SUMMARY:Knights Fraternal Corp. Board Meeting
DESCRIPTION:
URL:https://www.kofcbloomington.com/event/knights-fraternal-corp-board-meeting-9/
CATEGORIES:Member Events
END:VEVENT
BEGIN:VEVENT
DTSTART;TZID=America/Chicago:20200204T190000
DTEND;TZID=America/Chicago:20200204T200000
DTSTAMP:20260420T040634
CREATED:20200130T163710Z
LAST-MODIFIED:20200130T163710Z
UID:6498-1580842800-1580846400@www.kofcbloomington.com
SUMMARY:Budget & Finance Committee Meeting
DESCRIPTION:
URL:https://www.kofcbloomington.com/event/budget-finance-committee-meeting-9/
CATEGORIES:Member Events
END:VEVENT
BEGIN:VEVENT
DTSTART;TZID=America/Chicago:20200203T190000
DTEND;TZID=America/Chicago:20200203T203000
DTSTAMP:20260420T040634
CREATED:20200130T163704Z
LAST-MODIFIED:20200130T163704Z
UID:6497-1580756400-1580761800@www.kofcbloomington.com
SUMMARY:Respect for Life
DESCRIPTION:
URL:https://www.kofcbloomington.com/event/respect-for-life-6/
CATEGORIES:Member Events
END:VEVENT
BEGIN:VEVENT
DTSTART;TZID=America/Chicago:20200128T190000
DTEND;TZID=America/Chicago:20200128T200000
DTSTAMP:20260420T040634
CREATED:20200130T163225Z
LAST-MODIFIED:20200130T163225Z
UID:6496-1580238000-1580241600@www.kofcbloomington.com
SUMMARY:Home Association Meeting
DESCRIPTION:
URL:https://www.kofcbloomington.com/event/home-association-meeting-8/
CATEGORIES:Public Events
END:VEVENT
BEGIN:VEVENT
DTSTART;TZID=America/Chicago:20200127T190000
DTEND;TZID=America/Chicago:20200127T200000
DTSTAMP:20260420T040634
CREATED:20200130T163203Z
LAST-MODIFIED:20200130T163203Z
UID:6494-1580151600-1580155200@www.kofcbloomington.com
SUMMARY:Marketing Committee Meeting
DESCRIPTION:
URL:https://www.kofcbloomington.com/event/marketing-committee-meeting-4/
CATEGORIES:Member Events
END:VEVENT
BEGIN:VEVENT
DTSTART;TZID=America/Chicago:20200127T150000
DTEND;TZID=America/Chicago:20200127T170000
DTSTAMP:20260420T040634
CREATED:20200130T163215Z
LAST-MODIFIED:20200130T163215Z
UID:6495-1580137200-1580144400@www.kofcbloomington.com
SUMMARY:Loaves & Fishes-Hope Church
DESCRIPTION:
URL:https://www.kofcbloomington.com/event/loaves-fishes-hope-church-8/
CATEGORIES:Public Events
END:VEVENT
BEGIN:VEVENT
DTSTART;TZID=America/Chicago:20200123T193000
DTEND;TZID=America/Chicago:20200123T203000
DTSTAMP:20260420T040634
CREATED:20200130T163152Z
LAST-MODIFIED:20200130T163152Z
UID:6493-1579807800-1579811400@www.kofcbloomington.com
SUMMARY:Lecturer Program
DESCRIPTION:
URL:https://www.kofcbloomington.com/event/lecturer-program-3/
CATEGORIES:Public Events
END:VEVENT
BEGIN:VEVENT
DTSTART;TZID=America/Chicago:20200123T190000
DTEND;TZID=America/Chicago:20200123T203000
DTSTAMP:20260420T040634
CREATED:20200130T163142Z
LAST-MODIFIED:20200130T163142Z
UID:6492-1579806000-1579811400@www.kofcbloomington.com
SUMMARY:Council Meeting
DESCRIPTION:
URL:https://www.kofcbloomington.com/event/council-meeting-11/
CATEGORIES:Member Events
END:VEVENT
BEGIN:VEVENT
DTSTART;TZID=America/Chicago:20200117T200000
DTEND;TZID=America/Chicago:20200117T230000
DTSTAMP:20260420T040634
CREATED:20200130T163134Z
LAST-MODIFIED:20200130T163134Z
UID:6491-1579291200-1579302000@www.kofcbloomington.com
SUMMARY:Big Band Dance
DESCRIPTION:
URL:https://www.kofcbloomington.com/event/big-band-dance-9/
CATEGORIES:Public Events
END:VEVENT
BEGIN:VEVENT
DTSTART;TZID=America/Chicago:20200116T173000
DTEND;TZID=America/Chicago:20200116T190000
DTSTAMP:20260420T040634
CREATED:20200130T163118Z
LAST-MODIFIED:20200130T163118Z
UID:6490-1579195800-1579201200@www.kofcbloomington.com
SUMMARY:Ladies Auxillary Dinner Meeting
DESCRIPTION:
URL:https://www.kofcbloomington.com/event/ladies-auxillary-dinner-meeting-4/
CATEGORIES:Member Events
END:VEVENT
BEGIN:VEVENT
DTSTART;TZID=America/Chicago:20200115T193000
DTEND;TZID=America/Chicago:20200115T203000
DTSTAMP:20260420T040634
CREATED:20200130T163104Z
LAST-MODIFIED:20200130T163104Z
UID:6489-1579116600-1579120200@www.kofcbloomington.com
SUMMARY:Fourth Degree Meeting
DESCRIPTION:
URL:https://www.kofcbloomington.com/event/fourth-degree-meeting-6/
CATEGORIES:Member Events
END:VEVENT
BEGIN:VEVENT
DTSTART;TZID=America/Chicago:20200115T123000
DTEND;TZID=America/Chicago:20200115T133000
DTSTAMP:20260420T040634
CREATED:20200130T163033Z
LAST-MODIFIED:20200130T163033Z
UID:6488-1579091400-1579095000@www.kofcbloomington.com
SUMMARY:Gambling Committee Meeting
DESCRIPTION:
URL:https://www.kofcbloomington.com/event/gambling-committee-meeting-9/
CATEGORIES:Member Events
END:VEVENT
BEGIN:VEVENT
DTSTART;TZID=America/Chicago:20200114T190000
DTEND;TZID=America/Chicago:20200114T203000
DTSTAMP:20260420T040634
CREATED:20200130T163023Z
LAST-MODIFIED:20200130T163023Z
UID:6487-1579028400-1579033800@www.kofcbloomington.com
SUMMARY:Knights Fraternal Corp. Board Meeting
DESCRIPTION:
URL:https://www.kofcbloomington.com/event/knights-fraternal-corp-board-meeting-5/
CATEGORIES:Member Events
END:VEVENT
BEGIN:VEVENT
DTSTART;TZID=America/Chicago:20200109T190000
DTEND;TZID=America/Chicago:20200109T203000
DTSTAMP:20260420T040634
CREATED:20200130T163011Z
LAST-MODIFIED:20200130T163011Z
UID:6486-1578596400-1578601800@www.kofcbloomington.com
SUMMARY:Council Meeting
DESCRIPTION:
URL:https://www.kofcbloomington.com/event/council-meeting-10/
CATEGORIES:Member Events
END:VEVENT
BEGIN:VEVENT
DTSTART;TZID=America/Chicago:20200109T170000
DTEND;TZID=America/Chicago:20200109T190000
DTSTAMP:20260420T040634
CREATED:20200130T163000Z
LAST-MODIFIED:20200130T163000Z
UID:6485-1578589200-1578596400@www.kofcbloomington.com
SUMMARY:Brotherhood Dinner
DESCRIPTION:
URL:https://www.kofcbloomington.com/event/brotherhood-dinner-5/
CATEGORIES:Member Events
END:VEVENT
BEGIN:VEVENT
DTSTART;TZID=America/Chicago:20200107T190000
DTEND;TZID=America/Chicago:20200107T200000
DTSTAMP:20260420T040634
CREATED:20200130T162950Z
LAST-MODIFIED:20200130T162950Z
UID:6484-1578423600-1578427200@www.kofcbloomington.com
SUMMARY:Budget & Finance Committee Meeting
DESCRIPTION:
URL:https://www.kofcbloomington.com/event/budget-finance-committee-meeting-8/
CATEGORIES:Member Events
END:VEVENT
BEGIN:VEVENT
DTSTART;TZID=America/Chicago:20200106T190000
DTEND;TZID=America/Chicago:20200106T203000
DTSTAMP:20260420T040634
CREATED:20200130T162938Z
LAST-MODIFIED:20200130T162938Z
UID:6483-1578337200-1578342600@www.kofcbloomington.com
SUMMARY:Respect for Life
DESCRIPTION:
URL:https://www.kofcbloomington.com/event/respect-for-life-5/
CATEGORIES:Member Events
END:VEVENT
BEGIN:VEVENT
DTSTART;TZID=America/Chicago:20200101T140000
DTEND;TZID=America/Chicago:20200101T160000
DTSTAMP:20260420T040634
CREATED:20190930T154030Z
LAST-MODIFIED:20190930T154030Z
UID:6461-1577887200-1577894400@www.kofcbloomington.com
SUMMARY:New Year's Day Open House
DESCRIPTION:
URL:https://www.kofcbloomington.com/event/new-years-day-open-house/
CATEGORIES:Public Events
END:VEVENT
BEGIN:VEVENT
DTSTART;TZID=America/Chicago:20191231T163000
DTEND;TZID=America/Chicago:20191231T200000
DTSTAMP:20260420T040634
CREATED:20190930T153953Z
LAST-MODIFIED:20190930T153953Z
UID:6460-1577809800-1577822400@www.kofcbloomington.com
SUMMARY:New Year's Eve Dinner
DESCRIPTION:
URL:https://www.kofcbloomington.com/event/new-years-eve-dinner/
CATEGORIES:Member Events
END:VEVENT
END:VCALENDAR